BEGIN:VCALENDAR
VERSION:2.0
PRODID:-//Tukios.com/
BEGIN:VEVENT
UID:8aed94eb-06bc-4ae1-8b58-56dc4ca86271@www.fordfh.com
DTSTAMP:20260422T204915Z
DTSTART:20260424T150000Z
DTEND:20260424T160000Z
SUMMARY:Funeral Service
DESCRIPTION:
URL:https://www.fordfh.com/obituaries/william-stults-sr
LOCATION:Buckmiller Ford Mengacci Funeral Home 82 Fairview Avenue, 
	Naugatuck  Naugatuck CT 06770
GEO:41.4898822;-73.0588578
END:VEVENT
END:VCALENDAR