BEGIN:VCALENDAR
VERSION:2.0
PRODID:-//Tukios.com/
BEGIN:VEVENT
UID:bf21e9c3-d92f-4f70-bd86-8b7773a944a1@www.fordfh.com
DTSTAMP:20260422T204813Z
DTSTART:20260424T130000Z
DTEND:20260424T150000Z
SUMMARY:Visitation
DESCRIPTION:
URL:https://www.fordfh.com/obituaries/william-stults-sr
LOCATION:Buckmiller Ford Mengacci Funeral Home 82 Fairview Avenue, 
	Naugatuck  Naugatuck CT 06770
GEO:41.4898822;-73.0588578
END:VEVENT
END:VCALENDAR