BEGIN:VCALENDAR
VERSION:2.0
PRODID:-//Tukios.com/
BEGIN:VEVENT
UID:0196e20a-e208-4d02-a7ff-4d241a90ac39@www.fordfh.com
DTSTAMP:20260425T163952Z
DTSTART:20260501T163000Z
DTEND:20260501T173000Z
SUMMARY:Mass
DESCRIPTION:
URL:https://www.fordfh.com/obituaries/richard-lord
LOCATION: 25 Maple Ave  Beacon Falls CT 06403
GEO:41.4454129;-73.0610396
END:VEVENT
END:VCALENDAR