BEGIN:VCALENDAR
VERSION:2.0
PRODID:-//Tukios.com/
BEGIN:VEVENT
UID:10ee0739-0f86-40aa-8f4f-759d957d2737@www.fordfh.com
DTSTAMP:20260425T164336Z
DTSTART:20260501T140000Z
DTEND:20260501T160000Z
SUMMARY:Visitation
DESCRIPTION:
URL:https://www.fordfh.com/obituaries/richard-lord
LOCATION:Buckmiller Ford Mengacci Funeral Home 82 Fairview Avenue, 
	Naugatuck  Naugatuck CT 06770
GEO:41.4898822;-73.0588578
END:VEVENT
END:VCALENDAR