BEGIN:VCALENDAR
VERSION:2.0
PRODID:-//Tukios.com/
BEGIN:VEVENT
UID:dab277df-1d0f-48be-9bbd-f915ce228aee@www.fordfh.com
DTSTAMP:20260420T184507Z
DTSTART:20260422T153000Z
DTEND:20260422T154500Z
SUMMARY:Burial
DESCRIPTION:
URL:https://www.fordfh.com/obituaries/maria-gaspar
LOCATION: 1 Cross Street  Naugatuck CT 06770
GEO:41.4751057;-73.0434309
END:VEVENT
END:VCALENDAR