BEGIN:VCALENDAR
VERSION:2.0
PRODID:-//Tukios.com/
BEGIN:VEVENT
UID:ea570674-1e8e-46a0-a70f-6942c11172ef@www.fordfh.com
DTSTAMP:20260420T184344Z
DTSTART:20260422T150000Z
DTEND:20260422T160000Z
SUMMARY:Prayer Service
DESCRIPTION:
URL:https://www.fordfh.com/obituaries/maria-gaspar
LOCATION:Buckmiller Ford Mengacci Funeral Home 82 Fairview Avenue, 
	Naugatuck  Naugatuck CT 06770
GEO:41.4898822;-73.0588578
END:VEVENT
END:VCALENDAR