BEGIN:VCALENDAR
VERSION:2.0
PRODID:-//Tukios.com/
BEGIN:VEVENT
UID:039467bd-f208-4a54-8b2d-6d906b1a65e2@www.fordfh.com
DTSTAMP:20260420T184355Z
DTSTART:20260422T130000Z
DTEND:20260422T150000Z
SUMMARY:Visitation
DESCRIPTION:
URL:https://www.fordfh.com/obituaries/maria-gaspar
LOCATION:Buckmiller Ford Mengacci Funeral Home 82 Fairview Avenue, 
	Naugatuck  Naugatuck CT 06770
GEO:41.4898822;-73.0588578
END:VEVENT
END:VCALENDAR