BEGIN:VCALENDAR
VERSION:2.0
PRODID:-//Tukios.com/
BEGIN:VEVENT
UID:b637ca9e-d20d-49a0-a994-24c816677152@www.fordfh.com
DTSTAMP:20260423T193645Z
DTSTART:20260428T151500Z
DTEND:20260428T153000Z
SUMMARY:Burial
DESCRIPTION:
URL:https://www.fordfh.com/obituaries/debra-esposito
LOCATION: Cross St.  Naugatuck CT 06770
GEO:41.4711227;-73.0454577
END:VEVENT
END:VCALENDAR