BEGIN:VCALENDAR
VERSION:2.0
PRODID:-//Tukios.com/
BEGIN:VEVENT
UID:2329cd87-0164-41e9-a5e9-871faf146b31@www.fordfh.com
DTSTAMP:20260423T193743Z
DTSTART:20260428T140000Z
DTEND:20260428T150000Z
SUMMARY:Mass
DESCRIPTION:
URL:https://www.fordfh.com/obituaries/debra-esposito
LOCATION:St. Francis Church Church Street  Naugatuck CT 06770
GEO:41.5012986;-73.0580755
END:VEVENT
END:VCALENDAR